BEGIN:VCALENDAR
VERSION:2.0
PRODID:-//Amity-SA - ECPv6.15.17.1//NONSGML v1.0//EN
CALSCALE:GREGORIAN
METHOD:PUBLISH
X-ORIGINAL-URL:https://amitysa.co.za
X-WR-CALDESC:Events for Amity-SA
REFRESH-INTERVAL;VALUE=DURATION:PT1H
X-Robots-Tag:noindex
X-PUBLISHED-TTL:PT1H
BEGIN:VTIMEZONE
TZID:Africa/Johannesburg
BEGIN:STANDARD
TZOFFSETFROM:+0200
TZOFFSETTO:+0200
TZNAME:SAST
DTSTART:20240101T000000
END:STANDARD
END:VTIMEZONE
BEGIN:VEVENT
DTSTART;TZID=Africa/Johannesburg:20250901T080000
DTEND;TZID=Africa/Johannesburg:20250901T170000
DTSTAMP:20260421T141319
CREATED:20251020T101933Z
LAST-MODIFIED:20251020T101933Z
UID:19367-1756713600-1756746000@amitysa.co.za
SUMMARY:Pancake and Waffle Day
DESCRIPTION:
URL:https://amitysa.co.za/event/pancake-and-waffle-day/
END:VEVENT
END:VCALENDAR