BEGIN:VCALENDAR
VERSION:2.0
PRODID:-//Amity-SA - ECPv6.15.17.1//NONSGML v1.0//EN
CALSCALE:GREGORIAN
METHOD:PUBLISH
X-ORIGINAL-URL:https://amitysa.co.za
X-WR-CALDESC:Events for Amity-SA
REFRESH-INTERVAL;VALUE=DURATION:PT1H
X-Robots-Tag:noindex
X-PUBLISHED-TTL:PT1H
BEGIN:VTIMEZONE
TZID:Africa/Johannesburg
BEGIN:STANDARD
TZOFFSETFROM:+0200
TZOFFSETTO:+0200
TZNAME:SAST
DTSTART:20240101T000000
END:STANDARD
END:VTIMEZONE
BEGIN:VEVENT
DTSTART;TZID=Africa/Johannesburg:20250901T080000
DTEND;TZID=Africa/Johannesburg:20250901T170000
DTSTAMP:20260421T121735
CREATED:20251020T101933Z
LAST-MODIFIED:20251020T101933Z
UID:19367-1756713600-1756746000@amitysa.co.za
SUMMARY:Pancake and Waffle Day
DESCRIPTION:
URL:https://amitysa.co.za/event/pancake-and-waffle-day/
END:VEVENT
BEGIN:VEVENT
DTSTART;TZID=Africa/Johannesburg:20250905T080000
DTEND;TZID=Africa/Johannesburg:20250905T170000
DTSTAMP:20260421T121735
CREATED:20251020T101953Z
LAST-MODIFIED:20251020T101953Z
UID:19369-1757059200-1757091600@amitysa.co.za
SUMMARY:Spring Day Fest
DESCRIPTION:
URL:https://amitysa.co.za/event/spring-day-fest/
END:VEVENT
BEGIN:VEVENT
DTSTART;TZID=Africa/Johannesburg:20250912T080000
DTEND;TZID=Africa/Johannesburg:20250912T170000
DTSTAMP:20260421T121735
CREATED:20251020T102013Z
LAST-MODIFIED:20251020T102013Z
UID:19371-1757664000-1757696400@amitysa.co.za
SUMMARY:Grand Parents Day
DESCRIPTION:
URL:https://amitysa.co.za/event/grand-parents-day/
END:VEVENT
BEGIN:VEVENT
DTSTART;TZID=Africa/Johannesburg:20250919T080000
DTEND;TZID=Africa/Johannesburg:20250919T170000
DTSTAMP:20260421T121735
CREATED:20251020T102034Z
LAST-MODIFIED:20251020T102034Z
UID:19373-1758268800-1758301200@amitysa.co.za
SUMMARY:Funky Hair Day Gr 4 - 11 Test Cycle Ends
DESCRIPTION:
URL:https://amitysa.co.za/event/funky-hair-day-gr-4-11-test-cycle-ends/
END:VEVENT
BEGIN:VEVENT
DTSTART;VALUE=DATE:20250924
DTEND;VALUE=DATE:20250925
DTSTAMP:20260421T121735
CREATED:20251020T102058Z
LAST-MODIFIED:20251020T102058Z
UID:19375-1758672000-1758758399@amitysa.co.za
SUMMARY:Public Holiday Heritage Day
DESCRIPTION:
URL:https://amitysa.co.za/event/public-holiday-heritage-day/
CATEGORIES:Holidays
END:VEVENT
BEGIN:VEVENT
DTSTART;TZID=Africa/Johannesburg:20250926T080000
DTEND;TZID=Africa/Johannesburg:20250926T170000
DTSTAMP:20260421T121735
CREATED:20251020T102118Z
LAST-MODIFIED:20251020T102118Z
UID:19377-1758873600-1758906000@amitysa.co.za
SUMMARY:Civvies Day Prelims Finish
DESCRIPTION:
URL:https://amitysa.co.za/event/civvies-day-prelims-finish/
END:VEVENT
END:VCALENDAR